Package: SIAMCAT Version: 1.12.0 Command: rm -rf SIAMCAT.buildbin-libdir && mkdir SIAMCAT.buildbin-libdir && /Users/biocbuild/BBS/utils/build-universal.sh SIAMCAT_1.12.0.tar.gz /Library/Frameworks/R.framework/Versions/Current/Resources/bin/R SIAMCAT.buildbin-libdir StartedAt: 2021-10-15 03:59:31 -0400 (Fri, 15 Oct 2021) EndedAt: 2021-10-15 04:00:42 -0400 (Fri, 15 Oct 2021) EllapsedTime: 70.3 seconds RetCode: 0 Status: OK PackageFile: SIAMCAT_1.12.0.tgz PackageFileSize: 10.93 MiB