Package: SEtools Version: 1.6.0 Command: /Library/Frameworks/R.framework/Versions/Current/Resources/bin/R CMD build --keep-empty-dirs --no-resave-data SEtools StartedAt: 2021-10-14 14:53:46 -0400 (Thu, 14 Oct 2021) EndedAt: 2021-10-14 14:55:20 -0400 (Thu, 14 Oct 2021) EllapsedTime: 93.5 seconds RetCode: 0 Status: OK PackageFile: SEtools_1.6.0.tar.gz PackageFileSize: 947.9 KiB