Package: SEPIRA Version: 1.12.0 Command: C:\cygwin\bin\curl.exe -O http://155.52.207.165/BBS/3.13/bioc/src/contrib/SEPIRA_1.12.0.tar.gz && rm -rf SEPIRA.buildbin-libdir && mkdir SEPIRA.buildbin-libdir && C:\Users\biocbuild\bbs-3.13-bioc\R\bin\R.exe CMD INSTALL --merge-multiarch --build --library=SEPIRA.buildbin-libdir SEPIRA_1.12.0.tar.gz && C:\Users\biocbuild\bbs-3.13-bioc\R\bin\R.exe CMD INSTALL SEPIRA_1.12.0.zip && rm SEPIRA_1.12.0.tar.gz SEPIRA_1.12.0.zip StartedAt: 2021-10-14 07:19:55 -0400 (Thu, 14 Oct 2021) EndedAt: 2021-10-14 07:20:49 -0400 (Thu, 14 Oct 2021) EllapsedTime: 53.8 seconds RetCode: 0 Status: OK