Package: SEPIRA Version: 1.12.0 Command: rm -rf SEPIRA.buildbin-libdir && mkdir SEPIRA.buildbin-libdir && C:\Users\biocbuild\bbs-3.13-bioc\R\bin\R.exe CMD INSTALL --merge-multiarch --build --library=SEPIRA.buildbin-libdir SEPIRA_1.12.0.tar.gz StartedAt: 2021-10-15 11:44:02 -0400 (Fri, 15 Oct 2021) EndedAt: 2021-10-15 11:45:09 -0400 (Fri, 15 Oct 2021) EllapsedTime: 66.9 seconds RetCode: 0 Status: OK PackageFile: SEPIRA_1.12.0.zip PackageFileSize: 4.542 MiB