Package: SEPIRA Version: 1.12.0 Command: rm -rf SEPIRA.buildbin-libdir && mkdir SEPIRA.buildbin-libdir && /Users/biocbuild/BBS/utils/build-universal.sh SEPIRA_1.12.0.tar.gz /Library/Frameworks/R.framework/Versions/Current/Resources/bin/R SEPIRA.buildbin-libdir StartedAt: 2021-10-15 03:57:18 -0400 (Fri, 15 Oct 2021) EndedAt: 2021-10-15 03:58:16 -0400 (Fri, 15 Oct 2021) EllapsedTime: 58.7 seconds RetCode: 0 Status: OK PackageFile: SEPIRA_1.12.0.tgz PackageFileSize: 4.523 MiB