Package: SDAMS Version: 1.12.0 Command: rm -rf SDAMS.buildbin-libdir && mkdir SDAMS.buildbin-libdir && C:\Users\biocbuild\bbs-3.13-bioc\R\bin\R.exe CMD INSTALL --merge-multiarch --build --library=SDAMS.buildbin-libdir SDAMS_1.12.0.tar.gz StartedAt: 2021-10-15 11:43:03 -0400 (Fri, 15 Oct 2021) EndedAt: 2021-10-15 11:44:02 -0400 (Fri, 15 Oct 2021) EllapsedTime: 59.3 seconds RetCode: 0 Status: OK PackageFile: SDAMS_1.12.0.zip PackageFileSize: 989.1 KiB