Package: SDAMS Version: 1.12.0 Command: /Library/Frameworks/R.framework/Versions/Current/Resources/bin/R CMD INSTALL SDAMS StartedAt: 2021-10-14 09:10:10 -0400 (Thu, 14 Oct 2021) EndedAt: 2021-10-14 09:10:56 -0400 (Thu, 14 Oct 2021) EllapsedTime: 45.6 seconds RetCode: 0 Status: OK