Package: SDAMS Version: 1.12.0 Command: /Library/Frameworks/R.framework/Versions/Current/Resources/bin/R CMD build --keep-empty-dirs --no-resave-data SDAMS StartedAt: 2021-10-14 14:49:10 -0400 (Thu, 14 Oct 2021) EndedAt: 2021-10-14 14:50:14 -0400 (Thu, 14 Oct 2021) EllapsedTime: 63.9 seconds RetCode: 0 Status: OK PackageFile: SDAMS_1.12.0.tar.gz PackageFileSize: 1.154 MiB