Package: SCOPE Version: 1.4.0 Command: /home/biocbuild/bbs-3.13-bioc/R/bin/R CMD INSTALL SCOPE StartedAt: 2021-10-14 06:26:41 -0400 (Thu, 14 Oct 2021) EndedAt: 2021-10-14 06:27:12 -0400 (Thu, 14 Oct 2021) EllapsedTime: 30.8 seconds RetCode: 0 Status: OK