Package: SCFA Version: 1.2.0 Command: C:\cygwin\bin\curl.exe -O http://155.52.207.165/BBS/3.13/bioc/src/contrib/SCFA_1.2.0.tar.gz && rm -rf SCFA.buildbin-libdir && mkdir SCFA.buildbin-libdir && C:\Users\biocbuild\bbs-3.13-bioc\R\bin\R.exe CMD INSTALL --merge-multiarch --build --library=SCFA.buildbin-libdir SCFA_1.2.0.tar.gz && C:\Users\biocbuild\bbs-3.13-bioc\R\bin\R.exe CMD INSTALL SCFA_1.2.0.zip && rm SCFA_1.2.0.tar.gz SCFA_1.2.0.zip StartedAt: 2021-10-14 09:07:07 -0400 (Thu, 14 Oct 2021) EndedAt: 2021-10-14 09:07:55 -0400 (Thu, 14 Oct 2021) EllapsedTime: 48.0 seconds RetCode: 0 Status: OK