Package: SCFA Version: 1.2.0 Command: /Library/Frameworks/R.framework/Versions/Current/Resources/bin/R CMD INSTALL SCFA StartedAt: 2021-10-14 09:19:15 -0400 (Thu, 14 Oct 2021) EndedAt: 2021-10-14 09:20:15 -0400 (Thu, 14 Oct 2021) EllapsedTime: 60.3 seconds RetCode: 0 Status: OK