Package: SCBN Version: 1.10.0 Command: chmod a+r SCBN -R && C:\Users\biocbuild\bbs-3.13-bioc\R\bin\R.exe CMD build --keep-empty-dirs --no-resave-data SCBN StartedAt: 2021-10-14 17:55:42 -0400 (Thu, 14 Oct 2021) EndedAt: 2021-10-14 17:56:58 -0400 (Thu, 14 Oct 2021) EllapsedTime: 76.0 seconds RetCode: 0 Status: OK PackageFile: SCBN_1.10.0.tar.gz PackageFileSize: 515.7 KiB