Package: SCBN Version: 1.10.0 Command: /home/biocbuild/bbs-3.13-bioc/R/bin/R CMD check --install=check:SCBN.install-out.txt --library=/home/biocbuild/bbs-3.13-bioc/R/library --no-vignettes --timings SCBN_1.10.0.tar.gz StartedAt: 2021-10-14 11:29:14 -0400 (Thu, 14 Oct 2021) EndedAt: 2021-10-14 11:30:48 -0400 (Thu, 14 Oct 2021) EllapsedTime: 93.8 seconds RetCode: 0 Status: OK CheckDir: SCBN.Rcheck Warnings: 0