git_url: https://git.bioconductor.org/packages/SCBN git_branch: RELEASE_3_13 git_last_commit: 772ef87 git_last_commit_date: 2021-05-19 12:37:15 -0400 (Wed, 19 May 2021) Package: SCBN Version: 1.10.0 Maintainer: Yan Zhou MaintainerEmail: 2160090406 at email.szu.edu.cn