Package: SCANVIS Version: 1.6.0 Command: /home/biocbuild/bbs-3.13-bioc/R/bin/R CMD check --install=check:SCANVIS.install-out.txt --library=/home/biocbuild/bbs-3.13-bioc/R/library --no-vignettes --timings SCANVIS_1.6.0.tar.gz StartedAt: 2021-10-14 11:28:43 -0400 (Thu, 14 Oct 2021) EndedAt: 2021-10-14 11:33:33 -0400 (Thu, 14 Oct 2021) EllapsedTime: 289.7 seconds RetCode: 1 Status: ERROR CheckDir: SCANVIS.Rcheck Warnings: NA