Package: SCANVIS Version: 1.6.0 Command: /Library/Frameworks/R.framework/Versions/Current/Resources/bin/R CMD build --keep-empty-dirs --no-resave-data SCANVIS StartedAt: 2021-10-14 14:37:35 -0400 (Thu, 14 Oct 2021) EndedAt: 2021-10-14 14:38:25 -0400 (Thu, 14 Oct 2021) EllapsedTime: 50.6 seconds RetCode: 0 Status: OK PackageFile: SCANVIS_1.6.0.tar.gz PackageFileSize: 464.5 KiB