Package: SCANVIS Version: 1.6.0 Command: rm -rf SCANVIS.buildbin-libdir && mkdir SCANVIS.buildbin-libdir && /Users/biocbuild/BBS/utils/build-universal.sh SCANVIS_1.6.0.tar.gz /Library/Frameworks/R.framework/Versions/Current/Resources/bin/R SCANVIS.buildbin-libdir StartedAt: 2021-10-15 03:53:00 -0400 (Fri, 15 Oct 2021) EndedAt: 2021-10-15 03:54:04 -0400 (Fri, 15 Oct 2021) EllapsedTime: 64.2 seconds RetCode: 0 Status: OK PackageFile: SCANVIS_1.6.0.tgz PackageFileSize: 424.5 KiB