Package: SBMLR Version: 1.88.0 Command: rm -rf SBMLR.buildbin-libdir && mkdir SBMLR.buildbin-libdir && C:\Users\biocbuild\bbs-3.13-bioc\R\bin\R.exe CMD INSTALL --merge-multiarch --build --library=SBMLR.buildbin-libdir SBMLR_1.88.0.tar.gz StartedAt: 2021-10-15 11:36:30 -0400 (Fri, 15 Oct 2021) EndedAt: 2021-10-15 11:38:00 -0400 (Fri, 15 Oct 2021) EllapsedTime: 90.9 seconds RetCode: 0 Status: OK PackageFile: SBMLR_1.88.0.zip PackageFileSize: 294 KiB