Package: SBGNview Version: 1.6.0 Command: /home/biocbuild/bbs-3.13-bioc/R/bin/R CMD INSTALL SBGNview StartedAt: 2021-10-14 06:12:09 -0400 (Thu, 14 Oct 2021) EndedAt: 2021-10-14 06:12:39 -0400 (Thu, 14 Oct 2021) EllapsedTime: 30.3 seconds RetCode: 0 Status: OK