git_url: https://git.bioconductor.org/packages/SBGNview git_branch: RELEASE_3_13 git_last_commit: 7fc4f04 git_last_commit_date: 2021-05-19 12:44:37 -0400 (Wed, 19 May 2021) Package: SBGNview Version: 1.6.0 Maintainer: Weijun Luo MaintainerEmail: luo_weijun at yahoo.com