git_url: https://git.bioconductor.org/packages/SANTA git_branch: RELEASE_3_13 git_last_commit: 574349d git_last_commit_date: 2021-05-19 12:59:45 -0400 (Wed, 19 May 2021) Package: SANTA Version: 2.28.0 Maintainer: Alex Cornish MaintainerEmail: alex.cornish at icr.ac.uk