Package: Rtreemix Version: 1.54.0 Command: /Library/Frameworks/R.framework/Versions/Current/Resources/bin/R CMD check --install=check:Rtreemix.install-out.txt --library=/Library/Frameworks/R.framework/Versions/Current/Resources/library --no-vignettes --timings Rtreemix_1.54.0.tar.gz StartedAt: 2021-10-14 23:28:32 -0400 (Thu, 14 Oct 2021) EndedAt: 2021-10-14 23:30:15 -0400 (Thu, 14 Oct 2021) EllapsedTime: 103.5 seconds RetCode: 0 Status: OK CheckDir: Rtreemix.Rcheck Warnings: 0