git_url: https://git.bioconductor.org/packages/Rtreemix git_branch: RELEASE_3_13 git_last_commit: 5821181 git_last_commit_date: 2021-05-19 11:39:55 -0400 (Wed, 19 May 2021) Package: Rtreemix Version: 1.54.0 Maintainer: Jasmina Bogojeska MaintainerEmail: jasmina.bogojeska at gmail.com