Package: Rtpca Version: 1.2.0 Command: chmod a+r Rtpca -R && C:\Users\biocbuild\bbs-3.13-bioc\R\bin\R.exe CMD build --keep-empty-dirs --no-resave-data Rtpca StartedAt: 2021-10-14 17:50:18 -0400 (Thu, 14 Oct 2021) EndedAt: 2021-10-14 17:51:28 -0400 (Thu, 14 Oct 2021) EllapsedTime: 69.6 seconds RetCode: 0 Status: OK PackageFile: Rtpca_1.2.0.tar.gz PackageFileSize: 2.005 MiB