Package: Rqc Version: 1.26.0 Command: C:\cygwin\bin\curl.exe -O http://155.52.207.165/BBS/3.13/bioc/src/contrib/Rqc_1.26.0.tar.gz && rm -rf Rqc.buildbin-libdir && mkdir Rqc.buildbin-libdir && C:\Users\biocbuild\bbs-3.13-bioc\R\bin\R.exe CMD INSTALL --merge-multiarch --build --library=Rqc.buildbin-libdir Rqc_1.26.0.tar.gz && C:\Users\biocbuild\bbs-3.13-bioc\R\bin\R.exe CMD INSTALL Rqc_1.26.0.zip && rm Rqc_1.26.0.tar.gz Rqc_1.26.0.zip StartedAt: 2021-10-14 10:50:26 -0400 (Thu, 14 Oct 2021) EndedAt: 2021-10-14 10:52:00 -0400 (Thu, 14 Oct 2021) EllapsedTime: 94.7 seconds RetCode: 0 Status: OK