Package: RpsiXML Version: 2.34.0 Command: C:\Users\biocbuild\bbs-3.13-bioc\R\bin\R.exe CMD check --force-multiarch --install=check:RpsiXML.install-out.txt --library=C:\Users\biocbuild\bbs-3.13-bioc\R\library --no-vignettes --timings RpsiXML_2.34.0.tar.gz StartedAt: 2021-10-15 04:50:10 -0400 (Fri, 15 Oct 2021) EndedAt: 2021-10-15 04:53:50 -0400 (Fri, 15 Oct 2021) EllapsedTime: 220.6 seconds RetCode: 0 Status: OK CheckDir: RpsiXML.Rcheck Warnings: 0