Package: Risa Version: 1.34.0 Command: /Library/Frameworks/R.framework/Versions/Current/Resources/bin/R CMD build --keep-empty-dirs --no-resave-data Risa StartedAt: 2021-10-14 14:24:22 -0400 (Thu, 14 Oct 2021) EndedAt: 2021-10-14 14:25:38 -0400 (Thu, 14 Oct 2021) EllapsedTime: 76.7 seconds RetCode: 0 Status: OK PackageFile: Risa_1.34.0.tar.gz PackageFileSize: 2.161 MiB