Package: RiboProfiling Version: 1.22.0 Command: C:\cygwin\bin\curl.exe -O http://155.52.207.165/BBS/3.13/bioc/src/contrib/RiboProfiling_1.22.0.tar.gz && rm -rf RiboProfiling.buildbin-libdir && mkdir RiboProfiling.buildbin-libdir && C:\Users\biocbuild\bbs-3.13-bioc\R\bin\R.exe CMD INSTALL --merge-multiarch --build --library=RiboProfiling.buildbin-libdir RiboProfiling_1.22.0.tar.gz && C:\Users\biocbuild\bbs-3.13-bioc\R\bin\R.exe CMD INSTALL RiboProfiling_1.22.0.zip && rm RiboProfiling_1.22.0.tar.gz RiboProfiling_1.22.0.zip StartedAt: 2021-10-14 10:52:07 -0400 (Thu, 14 Oct 2021) EndedAt: 2021-10-14 10:53:15 -0400 (Thu, 14 Oct 2021) EllapsedTime: 68.8 seconds RetCode: 0 Status: OK