Package: RiboProfiling Version: 1.22.0 Command: /home/biocbuild/bbs-3.13-bioc/R/bin/R CMD build --keep-empty-dirs --no-resave-data RiboProfiling StartedAt: 2021-10-14 08:12:41 -0400 (Thu, 14 Oct 2021) EndedAt: 2021-10-14 08:15:30 -0400 (Thu, 14 Oct 2021) EllapsedTime: 168.9 seconds RetCode: 0 Status: OK PackageFile: RiboProfiling_1.22.0.tar.gz PackageFileSize: 4.649 MiB