Package: Rhisat2 Version: 1.8.0 Command: chmod a+r Rhisat2 -R && C:\Users\biocbuild\bbs-3.13-bioc\R\bin\R.exe --arch x64 CMD build --keep-empty-dirs --no-resave-data Rhisat2 StartedAt: 2021-10-14 17:36:18 -0400 (Thu, 14 Oct 2021) EndedAt: 2021-10-14 17:42:04 -0400 (Thu, 14 Oct 2021) EllapsedTime: 345.6 seconds RetCode: 0 Status: OK PackageFile: Rhisat2_1.8.0.tar.gz PackageFileSize: 3.92 MiB