Package: Rhisat2 Version: 1.8.0 Command: rm -rf Rhisat2.buildbin-libdir && mkdir Rhisat2.buildbin-libdir && C:\Users\biocbuild\bbs-3.13-bioc\R\bin\R.exe --arch x64 CMD INSTALL --no-multiarch --build --library=Rhisat2.buildbin-libdir Rhisat2_1.8.0.tar.gz StartedAt: 2021-10-15 11:23:43 -0400 (Fri, 15 Oct 2021) EndedAt: 2021-10-15 11:29:30 -0400 (Fri, 15 Oct 2021) EllapsedTime: 346.7 seconds RetCode: 0 Status: OK PackageFile: Rhisat2_1.8.0.zip PackageFileSize: 15.89 MiB