Package: Rgraphviz Version: 2.36.0 Command: /Library/Frameworks/R.framework/Versions/Current/Resources/bin/R CMD build --keep-empty-dirs --no-resave-data Rgraphviz StartedAt: 2021-10-14 14:21:08 -0400 (Thu, 14 Oct 2021) EndedAt: 2021-10-14 14:23:54 -0400 (Thu, 14 Oct 2021) EllapsedTime: 166.3 seconds RetCode: 0 Status: OK PackageFile: Rgraphviz_2.36.0.tar.gz PackageFileSize: 7.086 MiB