Package: Rgraphviz Version: 2.36.0 Command: rm -rf Rgraphviz.buildbin-libdir && mkdir Rgraphviz.buildbin-libdir && /Users/biocbuild/BBS/utils/build-universal.sh Rgraphviz_2.36.0.tar.gz /Library/Frameworks/R.framework/Versions/Current/Resources/bin/R Rgraphviz.buildbin-libdir StartedAt: 2021-10-15 03:43:46 -0400 (Fri, 15 Oct 2021) EndedAt: 2021-10-15 03:46:39 -0400 (Fri, 15 Oct 2021) EllapsedTime: 172.9 seconds RetCode: 0 Status: OK PackageFile: Rgraphviz_2.36.0.tgz PackageFileSize: 1.523 MiB