Package: Rgin Version: 1.12.0 Command: C:\cygwin\bin\curl.exe -O http://155.52.207.165/BBS/3.13/bioc/src/contrib/Rgin_1.12.0.tar.gz && rm -rf Rgin.buildbin-libdir && mkdir Rgin.buildbin-libdir && C:\Users\biocbuild\bbs-3.13-bioc\R\bin\R.exe CMD INSTALL --merge-multiarch --build --library=Rgin.buildbin-libdir Rgin_1.12.0.tar.gz && C:\Users\biocbuild\bbs-3.13-bioc\R\bin\R.exe CMD INSTALL Rgin_1.12.0.zip && rm Rgin_1.12.0.tar.gz Rgin_1.12.0.zip StartedAt: 2021-10-14 07:55:19 -0400 (Thu, 14 Oct 2021) EndedAt: 2021-10-14 08:05:04 -0400 (Thu, 14 Oct 2021) EllapsedTime: 585.4 seconds RetCode: 0 Status: OK