Package: Rgin Version: 1.12.0 Command: chmod a+r Rgin -R && C:\Users\biocbuild\bbs-3.13-bioc\R\bin\R.exe CMD build --keep-empty-dirs --no-resave-data Rgin StartedAt: 2021-10-14 17:34:11 -0400 (Thu, 14 Oct 2021) EndedAt: 2021-10-14 17:38:26 -0400 (Thu, 14 Oct 2021) EllapsedTime: 254.6 seconds RetCode: 0 Status: OK PackageFile: Rgin_1.12.0.tar.gz PackageFileSize: 698.4 KiB