git_url: https://git.bioconductor.org/packages/Rfastp git_branch: RELEASE_3_13 git_last_commit: c35bc0b git_last_commit_date: 2021-05-19 12:54:58 -0400 (Wed, 19 May 2021) Package: Rfastp Version: 1.2.0 Maintainer: Thomas Carroll MaintainerEmail: tc.infomatics at gmail.com