Package: ReportingTools Version: 2.32.1 Command: rm -rf ReportingTools.buildbin-libdir && mkdir ReportingTools.buildbin-libdir && C:\Users\biocbuild\bbs-3.13-bioc\R\bin\R.exe CMD INSTALL --merge-multiarch --build --library=ReportingTools.buildbin-libdir ReportingTools_2.32.1.tar.gz StartedAt: 2021-10-15 11:20:48 -0400 (Fri, 15 Oct 2021) EndedAt: 2021-10-15 11:22:20 -0400 (Fri, 15 Oct 2021) EllapsedTime: 92.7 seconds RetCode: 0 Status: OK PackageFile: ReportingTools_2.32.1.zip PackageFileSize: 2.321 MiB