Package: ReportingTools Version: 2.32.1 Command: /home/biocbuild/bbs-3.13-bioc/R/bin/R CMD check --install=check:ReportingTools.install-out.txt --library=/home/biocbuild/bbs-3.13-bioc/R/library --no-vignettes --timings ReportingTools_2.32.1.tar.gz StartedAt: 2021-10-14 11:17:11 -0400 (Thu, 14 Oct 2021) EndedAt: 2021-10-14 11:26:02 -0400 (Thu, 14 Oct 2021) EllapsedTime: 531.4 seconds RetCode: 0 Status: OK CheckDir: ReportingTools.Rcheck Warnings: 0