Package: ReportingTools Version: 2.32.1 Command: /home/biocbuild/bbs-3.13-bioc/R/bin/R CMD build --keep-empty-dirs --no-resave-data ReportingTools StartedAt: 2021-10-14 08:11:16 -0400 (Thu, 14 Oct 2021) EndedAt: 2021-10-14 08:12:40 -0400 (Thu, 14 Oct 2021) EllapsedTime: 83.7 seconds RetCode: 0 Status: OK PackageFile: ReportingTools_2.32.1.tar.gz PackageFileSize: 2.148 MiB