Package: ReportingTools Version: 2.32.1 Command: /Library/Frameworks/R.framework/Versions/Current/Resources/bin/R CMD INSTALL ReportingTools StartedAt: 2021-10-14 10:12:01 -0400 (Thu, 14 Oct 2021) EndedAt: 2021-10-14 10:13:06 -0400 (Thu, 14 Oct 2021) EllapsedTime: 65.0 seconds RetCode: 0 Status: OK