Package: ReportingTools Version: 2.32.1 Command: /Library/Frameworks/R.framework/Versions/Current/Resources/bin/R CMD check --install=check:ReportingTools.install-out.txt --library=/Library/Frameworks/R.framework/Versions/Current/Resources/library --no-vignettes --timings ReportingTools_2.32.1.tar.gz StartedAt: 2021-10-14 23:02:46 -0400 (Thu, 14 Oct 2021) EndedAt: 2021-10-14 23:14:26 -0400 (Thu, 14 Oct 2021) EllapsedTime: 699.9 seconds RetCode: 0 Status: OK CheckDir: ReportingTools.Rcheck Warnings: 0