Package: Repitools Version: 1.38.0 Command: /Library/Frameworks/R.framework/Versions/Current/Resources/bin/R CMD build --keep-empty-dirs --no-resave-data Repitools StartedAt: 2021-10-14 14:19:08 -0400 (Thu, 14 Oct 2021) EndedAt: 2021-10-14 14:20:23 -0400 (Thu, 14 Oct 2021) EllapsedTime: 74.2 seconds RetCode: 0 Status: OK PackageFile: Repitools_1.38.0.tar.gz PackageFileSize: 1.644 MiB