Package: RegEnrich Version: 1.2.0 Command: /home/biocbuild/bbs-3.13-bioc/R/bin/R CMD build --keep-empty-dirs --no-resave-data RegEnrich StartedAt: 2021-10-14 08:10:33 -0400 (Thu, 14 Oct 2021) EndedAt: 2021-10-14 08:15:25 -0400 (Thu, 14 Oct 2021) EllapsedTime: 291.9 seconds RetCode: 0 Status: OK PackageFile: RegEnrich_1.2.0.tar.gz PackageFileSize: 1.134 MiB