Package: RegEnrich Version: 1.2.0 Command: /Library/Frameworks/R.framework/Versions/Current/Resources/bin/R CMD INSTALL RegEnrich StartedAt: 2021-10-14 09:40:40 -0400 (Thu, 14 Oct 2021) EndedAt: 2021-10-14 09:41:20 -0400 (Thu, 14 Oct 2021) EllapsedTime: 40.1 seconds RetCode: 0 Status: OK