Package: RedeR Version: 1.40.5 Command: C:\cygwin\bin\curl.exe -O http://155.52.207.165/BBS/3.13/bioc/src/contrib/RedeR_1.40.5.tar.gz && rm -rf RedeR.buildbin-libdir && mkdir RedeR.buildbin-libdir && C:\Users\biocbuild\bbs-3.13-bioc\R\bin\R.exe CMD INSTALL --merge-multiarch --build --library=RedeR.buildbin-libdir RedeR_1.40.5.tar.gz && C:\Users\biocbuild\bbs-3.13-bioc\R\bin\R.exe CMD INSTALL RedeR_1.40.5.zip && rm RedeR_1.40.5.tar.gz RedeR_1.40.5.zip StartedAt: 2021-10-14 07:22:31 -0400 (Thu, 14 Oct 2021) EndedAt: 2021-10-14 07:24:20 -0400 (Thu, 14 Oct 2021) EllapsedTime: 109.1 seconds RetCode: 0 Status: OK