Package: RedeR Version: 1.40.5 Command: chmod a+r RedeR -R && C:\Users\biocbuild\bbs-3.13-bioc\R\bin\R.exe CMD build --keep-empty-dirs --no-resave-data RedeR StartedAt: 2021-10-14 17:30:48 -0400 (Thu, 14 Oct 2021) EndedAt: 2021-10-14 17:31:45 -0400 (Thu, 14 Oct 2021) EllapsedTime: 57.0 seconds RetCode: 0 Status: OK PackageFile: RedeR_1.40.5.tar.gz PackageFileSize: 9.468 MiB