Package: RedeR Version: 1.40.5 Command: /Library/Frameworks/R.framework/Versions/Current/Resources/bin/R CMD INSTALL RedeR StartedAt: 2021-10-14 08:23:25 -0400 (Thu, 14 Oct 2021) EndedAt: 2021-10-14 08:24:14 -0400 (Thu, 14 Oct 2021) EllapsedTime: 49.0 seconds RetCode: 0 Status: OK