Package: RedeR Version: 1.40.5 Command: /Library/Frameworks/R.framework/Versions/Current/Resources/bin/R CMD build --keep-empty-dirs --no-resave-data RedeR StartedAt: 2021-10-14 14:18:14 -0400 (Thu, 14 Oct 2021) EndedAt: 2021-10-14 14:18:46 -0400 (Thu, 14 Oct 2021) EllapsedTime: 32.5 seconds RetCode: 0 Status: OK PackageFile: RedeR_1.40.5.tar.gz PackageFileSize: 9.468 MiB