Package: ReactomeGraph4R Version: 1.0.0 Command: /Library/Frameworks/R.framework/Versions/Current/Resources/bin/R CMD check --install=check:ReactomeGraph4R.install-out.txt --library=/Library/Frameworks/R.framework/Versions/Current/Resources/library --no-vignettes --timings ReactomeGraph4R_1.0.0.tar.gz StartedAt: 2021-10-14 22:57:43 -0400 (Thu, 14 Oct 2021) EndedAt: 2021-10-14 22:58:32 -0400 (Thu, 14 Oct 2021) EllapsedTime: 48.6 seconds RetCode: 0 Status: OK CheckDir: ReactomeGraph4R.Rcheck Warnings: 0