Package: ReactomeGSA Version: 1.6.1 Command: /Library/Frameworks/R.framework/Versions/Current/Resources/bin/R CMD INSTALL ReactomeGSA StartedAt: 2021-10-14 08:52:19 -0400 (Thu, 14 Oct 2021) EndedAt: 2021-10-14 08:53:14 -0400 (Thu, 14 Oct 2021) EllapsedTime: 55.1 seconds RetCode: 0 Status: OK